BEGIN:VCALENDAR
VERSION:2.0
PRODID:-//Ohio Dental Hygienists’ Association - ECPv6.15.20//NONSGML v1.0//EN
CALSCALE:GREGORIAN
METHOD:PUBLISH
X-WR-CALNAME:Ohio Dental Hygienists’ Association
X-ORIGINAL-URL:https://odha.net
X-WR-CALDESC:Events for Ohio Dental Hygienists’ Association
REFRESH-INTERVAL;VALUE=DURATION:PT1H
X-Robots-Tag:noindex
X-PUBLISHED-TTL:PT1H
BEGIN:VTIMEZONE
TZID:UTC
BEGIN:STANDARD
TZOFFSETFROM:+0000
TZOFFSETTO:+0000
TZNAME:UTC
DTSTART:20220101T000000
END:STANDARD
END:VTIMEZONE
BEGIN:VEVENT
DTSTART;TZID=UTC:20231103T080000
DTEND;TZID=UTC:20231105T140000
DTSTAMP:20260422T175318
CREATED:20230730T001911Z
LAST-MODIFIED:20231013T020925Z
UID:10000005-1698998400-1699192800@odha.net
SUMMARY:Annual Session 2023 100 Year Anniversary!
DESCRIPTION:Join us for our most exciting Annual Session yet as we celebrate our 100 Year Anniversary!\nKickoff our exciting 100 Year Annual Session Weekend with 3 CEs. Don’t miss this opportunity to hear from our amazing speakers on Ergonomics and Guided Biofilm Therapy.  Register here: https://odha.net/event/weekendkickoffces23 \nMeet with colleagues from around the state as we salute ODHA President Kelly Oberg\, welcome Keynote speaker Jill Rethman and host our first ever Gala Event Friday\, November 3rd. You won’t want to miss DJ Smiles at the Gala Afterparty! Golden Raffle Tickets are also for sale– only 400 tickets being sold for a chance to win an all paid-trip to Maine\, Florida\, or Mexico! \nGrab your ticket for Friday night’s 100 Year Gala! Register here!\nDuring this weekend\, we will conduct ODHA business meetings\, elect the 2023-24 Officers and discuss the issues facing the profession and the future of dental hygiene.  \nAttend the Exhibit Hall Saturday\, November 4th to browse our various Exhibitors and Vendors. Interested in becoming a Sponsor or Vendor? Email admin@odha.net. \nFinally and enthusiastically we welcome Ohio Dental Hygiene Students! We look forward to seeing their informative research poster presentations and their participation in our business of our Association. Students can expect an exciting weekend mingling with students from all 13 Ohio hygiene schools\, participating in a Cornhole competition\, Pie-in the face fundraiser\, and Student S’mores gathering. \nDownload Tentative Schedule\nAccommodations\, scholarships\, deadlines\, and other information here:\n  \n  \n   
URL:https://odha.net/event/annual-session-2023/
LOCATION:Cherry Valley Hotel\, 2299 Cherry Valley Rd SE\, Newark\, OH\, 43055\, United States
CATEGORIES:Annual Session Event
ATTACH;FMTTYPE=image/svg+xml:https://odha.net/wp-content/uploads/2023/07/100-YEARS-Promo-Facebook-Cover.svg
ORGANIZER;CN="Ohio Dental Hygienists%E2%80%99 Association":MAILTO:admin@odha.net
END:VEVENT
END:VCALENDAR